BEGIN:VCALENDAR
VERSION:2.0
PRODID:-//Weingut Lagler &amp; Hotel Weinberghof – Wein und Gastlichkeit in der Wachau - ECPv6.15.20//NONSGML v1.0//EN
CALSCALE:GREGORIAN
METHOD:PUBLISH
X-ORIGINAL-URL:https://www.laglers.at
X-WR-CALDESC:Veranstaltungen für Weingut Lagler &amp; Hotel Weinberghof – Wein und Gastlichkeit in der Wachau
REFRESH-INTERVAL;VALUE=DURATION:PT1H
X-Robots-Tag:noindex
X-PUBLISHED-TTL:PT1H
BEGIN:VTIMEZONE
TZID:Europe/Vienna
BEGIN:DAYLIGHT
TZOFFSETFROM:+0100
TZOFFSETTO:+0200
TZNAME:CEST
DTSTART:20250330T010000
END:DAYLIGHT
BEGIN:STANDARD
TZOFFSETFROM:+0200
TZOFFSETTO:+0100
TZNAME:CET
DTSTART:20251026T010000
END:STANDARD
BEGIN:DAYLIGHT
TZOFFSETFROM:+0100
TZOFFSETTO:+0200
TZNAME:CEST
DTSTART:20260329T010000
END:DAYLIGHT
BEGIN:STANDARD
TZOFFSETFROM:+0200
TZOFFSETTO:+0100
TZNAME:CET
DTSTART:20261025T010000
END:STANDARD
BEGIN:DAYLIGHT
TZOFFSETFROM:+0100
TZOFFSETTO:+0200
TZNAME:CEST
DTSTART:20270328T010000
END:DAYLIGHT
BEGIN:STANDARD
TZOFFSETFROM:+0200
TZOFFSETTO:+0100
TZNAME:CET
DTSTART:20271031T010000
END:STANDARD
END:VTIMEZONE
BEGIN:VEVENT
DTSTART;TZID=Europe/Vienna:20260328T140000
DTEND;TZID=Europe/Vienna:20260328T200000
DTSTAMP:20260421T133307
CREATED:20260324T203915Z
LAST-MODIFIED:20260324T203915Z
UID:3041-1774706400-1774728000@www.laglers.at
SUMMARY:WEIN & GENUSS Krems
DESCRIPTION:Genussvoll degustieren bei WEIN & GENUSS Krems\nIm prächtigen Rahmen der Dominikanerkirche Krems findet am 27. & 28. März 2026 von 14.00 bis 20.00 Uhr wieder die feine\, von Vinaria präsentierte\, Messe WEIN & GENUSS Krems statt. \nRund 70 Spitzenwinzer präsentieren ihre besten Weine. Den Schwerpunkt bilden traditionell die besten Weingüter Niederösterreichs\, die von Vinaria im aktuellen Weinguide am besten bewertet wurden. Die WEIN & GENUSS Krems ist wahrscheinlich die schönste Weinmesse Österreichs. \nIm Kreuzgang der Dominikanerkirche laden Alimentari-Stände zum Gustieren\, Kosten & Kaufen ein. \n  \nTicket-Info \nVorverkauf: EUR 35\,00 bzw. EUR 30\,00 für Raiffeisen-Konto-Inhaber\, Vinaria Abonnenten\, Ö1 Club-Mitglieder und WEIN & CO-Kunden\nTageskasse: EUR 40\,00
URL:https://www.laglers.at/event/wein-genuss-krems/
LOCATION:Dominikanerkirche Krems\, Körnermarkt 14\, Krems\, 3500\, Austria
CATEGORIES:on Tour
ATTACH;FMTTYPE=image/jpeg:https://www.laglers.at/wp-content/uploads/2026/03/csm_WGK2026_Banner_640x475_59770c2473.jpg
END:VEVENT
BEGIN:VEVENT
DTSTART;TZID=Europe/Vienna:20260327T140000
DTEND;TZID=Europe/Vienna:20260327T200000
DTSTAMP:20260421T133307
CREATED:20260324T203925Z
LAST-MODIFIED:20260324T203925Z
UID:3037-1774620000-1774641600@www.laglers.at
SUMMARY:WEIN & GENUSS Krems
DESCRIPTION:Genussvoll degustieren bei WEIN & GENUSS Krems\nIm prächtigen Rahmen der Dominikanerkirche Krems findet am 27. & 28. März 2026 von 14.00 bis 20.00 Uhr wieder die feine\, von Vinaria präsentierte\, Messe WEIN & GENUSS Krems statt. \nRund 70 Spitzenwinzer präsentieren ihre besten Weine. Den Schwerpunkt bilden traditionell die besten Weingüter Niederösterreichs\, die von Vinaria im aktuellen Weinguide am besten bewertet wurden. Die WEIN & GENUSS Krems ist wahrscheinlich die schönste Weinmesse Österreichs. \nIm Kreuzgang der Dominikanerkirche laden Alimentari-Stände zum Gustieren\, Kosten & Kaufen ein. \n  \nTicket-Info \nVorverkauf: EUR 35\,00 bzw. EUR 30\,00 für Raiffeisen-Konto-Inhaber\, Vinaria Abonnenten\, Ö1 Club-Mitglieder und WEIN & CO-Kunden\nTageskasse: EUR 40\,00
URL:https://www.laglers.at/event/wein-genuss-krems-2/
LOCATION:Dominikanerkirche Krems\, Körnermarkt 14\, Krems\, 3500\, Austria
CATEGORIES:on Tour
ATTACH;FMTTYPE=image/jpeg:https://www.laglers.at/wp-content/uploads/2026/03/csm_WGK2026_Banner_640x475_59770c2473.jpg
END:VEVENT
BEGIN:VEVENT
DTSTART;TZID=Europe/Vienna:20260326T174500
DTEND;TZID=Europe/Vienna:20260326T213000
DTSTAMP:20260421T133307
CREATED:20260324T203943Z
LAST-MODIFIED:20260324T203943Z
UID:3031-1774547100-1774560600@www.laglers.at
SUMMARY:Big Bottle Party
DESCRIPTION:Große Flaschen\, große Weine und gute Musik:\nBei der Big Bottle Party in der Sonnenburg schenken österreichische Winzer ihre Weine aus Großflaschen aus\, während ein DJ für die passenden Sounds sorgt.
URL:https://www.laglers.at/event/big-bottle-party/
LOCATION:Sonnenburg Fiss\, Sonnenburg Fiss\, Fiss\, 6533\, Austria
CATEGORIES:on Tour
END:VEVENT
END:VCALENDAR